BEGIN:VCALENDAR
VERSION:2.0
PRODID:-//Roadrunner Naturists Club - ECPv6.15.20//NONSGML v1.0//EN
CALSCALE:GREGORIAN
METHOD:PUBLISH
X-ORIGINAL-URL:https://www.roadrunnernaturists.com
X-WR-CALDESC:Events for Roadrunner Naturists Club
REFRESH-INTERVAL;VALUE=DURATION:PT1H
X-Robots-Tag:noindex
X-PUBLISHED-TTL:PT1H
BEGIN:VTIMEZONE
TZID:America/Denver
BEGIN:DAYLIGHT
TZOFFSETFROM:-0700
TZOFFSETTO:-0600
TZNAME:MDT
DTSTART:20230312T090000
END:DAYLIGHT
BEGIN:STANDARD
TZOFFSETFROM:-0600
TZOFFSETTO:-0700
TZNAME:MST
DTSTART:20231105T080000
END:STANDARD
BEGIN:DAYLIGHT
TZOFFSETFROM:-0700
TZOFFSETTO:-0600
TZNAME:MDT
DTSTART:20240310T090000
END:DAYLIGHT
BEGIN:STANDARD
TZOFFSETFROM:-0600
TZOFFSETTO:-0700
TZNAME:MST
DTSTART:20241103T080000
END:STANDARD
BEGIN:DAYLIGHT
TZOFFSETFROM:-0700
TZOFFSETTO:-0600
TZNAME:MDT
DTSTART:20250309T090000
END:DAYLIGHT
BEGIN:STANDARD
TZOFFSETFROM:-0600
TZOFFSETTO:-0700
TZNAME:MST
DTSTART:20251102T080000
END:STANDARD
END:VTIMEZONE
BEGIN:VEVENT
DTSTART;TZID=America/Denver:20241102T140000
DTEND;TZID=America/Denver:20241102T180000
DTSTAMP:20260425T203832
CREATED:20241002T164221Z
LAST-MODIFIED:20241022T193252Z
UID:298-1730556000-1730570400@www.roadrunnernaturists.com
SUMMARY:HALLOWEEN PARTY POTLUCK
DESCRIPTION:The Halloween Party Potluck is a favorite annual event!\nRoadrunner members bring a dish or dessert. Non-members (who have previously attended a Meet and Greet) bring $10. \nLet your costume show off your creative talents! \nEast Mountains – RSVP to roadrunnernaturists@hotmail.com for directions. \n  \n\n 
URL:https://www.roadrunnernaturists.com/event/halloween-party-potluck-2024
LOCATION:East Mountains
CATEGORIES:Social
ATTACH;FMTTYPE=image/png:https://www.roadrunnernaturists.com/wp-content/uploads/2024/10/halloween-party-potluck-2024.png
ORGANIZER;CN="Roadrunner Naturists":MAILTO:info@roadrunnernaturists.com
END:VEVENT
END:VCALENDAR