BEGIN:VCALENDAR
VERSION:2.0
PRODID:-//Roadrunner Naturists Club - ECPv6.15.20//NONSGML v1.0//EN
CALSCALE:GREGORIAN
METHOD:PUBLISH
X-ORIGINAL-URL:https://www.roadrunnernaturists.com
X-WR-CALDESC:Events for Roadrunner Naturists Club
REFRESH-INTERVAL;VALUE=DURATION:PT1H
X-Robots-Tag:noindex
X-PUBLISHED-TTL:PT1H
BEGIN:VTIMEZONE
TZID:America/Denver
BEGIN:DAYLIGHT
TZOFFSETFROM:-0700
TZOFFSETTO:-0600
TZNAME:MDT
DTSTART:20240310T090000
END:DAYLIGHT
BEGIN:STANDARD
TZOFFSETFROM:-0600
TZOFFSETTO:-0700
TZNAME:MST
DTSTART:20241103T080000
END:STANDARD
BEGIN:DAYLIGHT
TZOFFSETFROM:-0700
TZOFFSETTO:-0600
TZNAME:MDT
DTSTART:20250309T090000
END:DAYLIGHT
BEGIN:STANDARD
TZOFFSETFROM:-0600
TZOFFSETTO:-0700
TZNAME:MST
DTSTART:20251102T080000
END:STANDARD
BEGIN:DAYLIGHT
TZOFFSETFROM:-0700
TZOFFSETTO:-0600
TZNAME:MDT
DTSTART:20260308T090000
END:DAYLIGHT
BEGIN:STANDARD
TZOFFSETFROM:-0600
TZOFFSETTO:-0700
TZNAME:MST
DTSTART:20261101T080000
END:STANDARD
END:VTIMEZONE
BEGIN:VEVENT
DTSTART;VALUE=DATE:20250110
DTEND;VALUE=DATE:20250113
DTSTAMP:20260425T174923
CREATED:20241022T192948Z
LAST-MODIFIED:20241022T193112Z
UID:347-1736467200-1736726399@www.roadrunnernaturists.com
SUMMARY:Shangri La Ranch Travel Event
DESCRIPTION:Shangri La Ranch is a clothing optional resort located north of Phoenix. Enjoy the hiking trail\, pools\, hot tub\, water volleyball\, water aerobics\, and visiting with the fun people! It’ll be even more fun when enjoyed with your fellow Roadrunners. \nContact Shangri La directly to make reservations. Be sure to mention you are part of the Roadrunners Travel Event. Make reservations at 623-465-5959. https://www.shangrilaranch.com/ \nContact us at roadrunnernaturists@hotmail.com for more information.
URL:https://www.roadrunnernaturists.com/event/shangri-la-ranch-travel-event
LOCATION:Shangri La Ranch\, 44444 N. Shangri La Lane\, New River\, AZ\, 85087\, United States
CATEGORIES:Travel
ATTACH;FMTTYPE=image/webp:https://www.roadrunnernaturists.com/wp-content/uploads/2024/10/shangri-la-logo.webp
ORGANIZER;CN="Roadrunner Naturists":MAILTO:info@roadrunnernaturists.com
END:VEVENT
END:VCALENDAR