BEGIN:VCALENDAR
VERSION:2.0
PRODID:-//Roadrunner Naturists Club - ECPv6.15.20//NONSGML v1.0//EN
CALSCALE:GREGORIAN
METHOD:PUBLISH
X-WR-CALNAME:Roadrunner Naturists Club
X-ORIGINAL-URL:https://www.roadrunnernaturists.com
X-WR-CALDESC:Events for Roadrunner Naturists Club
REFRESH-INTERVAL;VALUE=DURATION:PT1H
X-Robots-Tag:noindex
X-PUBLISHED-TTL:PT1H
BEGIN:VTIMEZONE
TZID:America/Denver
BEGIN:DAYLIGHT
TZOFFSETFROM:-0700
TZOFFSETTO:-0600
TZNAME:MDT
DTSTART:20240310T090000
END:DAYLIGHT
BEGIN:STANDARD
TZOFFSETFROM:-0600
TZOFFSETTO:-0700
TZNAME:MST
DTSTART:20241103T080000
END:STANDARD
BEGIN:DAYLIGHT
TZOFFSETFROM:-0700
TZOFFSETTO:-0600
TZNAME:MDT
DTSTART:20250309T090000
END:DAYLIGHT
BEGIN:STANDARD
TZOFFSETFROM:-0600
TZOFFSETTO:-0700
TZNAME:MST
DTSTART:20251102T080000
END:STANDARD
BEGIN:DAYLIGHT
TZOFFSETFROM:-0700
TZOFFSETTO:-0600
TZNAME:MDT
DTSTART:20260308T090000
END:DAYLIGHT
BEGIN:STANDARD
TZOFFSETFROM:-0600
TZOFFSETTO:-0700
TZNAME:MST
DTSTART:20261101T080000
END:STANDARD
END:VTIMEZONE
BEGIN:VEVENT
DTSTART;TZID=America/Denver:20250906T130000
DTEND;TZID=America/Denver:20250906T170000
DTSTAMP:20260423T142358
CREATED:20250827T230318Z
LAST-MODIFIED:20250827T230318Z
UID:27742-1757163600-1757178000@www.roadrunnernaturists.com
SUMMARY:Pool Party Potluck
DESCRIPTION:Dive into a fun summer afternoon with your friends! We’re hosting a laid-back pool party where everyone can cool off and enjoy some delicious shared dishes. Bring your favorite potluck contribution to share and don’t forget your chairs for comfortable lounging. It’s the perfect way to spend a sunny day connecting with friends and enjoying some great food and swimming. Grab your swimsuit\, a tasty dish\, and get ready for a relaxed gathering in the Northeast Heights! \nContact us at roadrunnernaturists@hotmail.com to RSVP.
URL:https://www.roadrunnernaturists.com/event/pool-party-potluck
LOCATION:Albuquerque – Northeast Heights\, Albuquerque\, NM\, United States
CATEGORIES:Social
ATTACH;FMTTYPE=image/webp:https://www.roadrunnernaturists.com/wp-content/uploads/2025/08/pool-party_09-06-2025.webp
ORGANIZER;CN="Roadrunner Naturists":MAILTO:info@roadrunnernaturists.com
END:VEVENT
END:VCALENDAR