BEGIN:VCALENDAR
VERSION:2.0
PRODID:-//Roadrunner Naturists Club - ECPv6.15.20//NONSGML v1.0//EN
CALSCALE:GREGORIAN
METHOD:PUBLISH
X-ORIGINAL-URL:https://www.roadrunnernaturists.com
X-WR-CALDESC:Events for Roadrunner Naturists Club
REFRESH-INTERVAL;VALUE=DURATION:PT1H
X-Robots-Tag:noindex
X-PUBLISHED-TTL:PT1H
BEGIN:VTIMEZONE
TZID:America/Denver
BEGIN:DAYLIGHT
TZOFFSETFROM:-0700
TZOFFSETTO:-0600
TZNAME:MDT
DTSTART:20240310T090000
END:DAYLIGHT
BEGIN:STANDARD
TZOFFSETFROM:-0600
TZOFFSETTO:-0700
TZNAME:MST
DTSTART:20241103T080000
END:STANDARD
BEGIN:DAYLIGHT
TZOFFSETFROM:-0700
TZOFFSETTO:-0600
TZNAME:MDT
DTSTART:20250309T090000
END:DAYLIGHT
BEGIN:STANDARD
TZOFFSETFROM:-0600
TZOFFSETTO:-0700
TZNAME:MST
DTSTART:20251102T080000
END:STANDARD
BEGIN:DAYLIGHT
TZOFFSETFROM:-0700
TZOFFSETTO:-0600
TZNAME:MDT
DTSTART:20260308T090000
END:DAYLIGHT
BEGIN:STANDARD
TZOFFSETFROM:-0600
TZOFFSETTO:-0700
TZNAME:MST
DTSTART:20261101T080000
END:STANDARD
END:VTIMEZONE
BEGIN:VEVENT
DTSTART;TZID=America/Denver:20251214T150000
DTEND;TZID=America/Denver:20251214T190000
DTSTAMP:20260420T105410
CREATED:20251125T022411Z
LAST-MODIFIED:20251125T022606Z
UID:31089-1765724400-1765738800@www.roadrunnernaturists.com
SUMMARY:Holiday Pasta Party
DESCRIPTION:Festive Feast Details\nJoin us for a merry and delicious celebration for some holiday cheer! Our host is preparing a spectacular pasta spread that will warm your heart and satisfy your taste buds. \nWhat’s on the Menu\n\nGenerous buckets of pasta\, including gluten-free options to ensure every club member can enjoy\nHost’s Special: Homemade sauce and meatballs\, topped with fresh parmesan\nMember Contribution: We invite club members to bring a little something extra to share:\n\nYour favorite sauce\nUnique sausage varieties\nFresh salad\nWarm\, crusty bread\nDelightful desserts\n\n\n\nGiving Back\nIn the true spirit of the holidays\, let’s remember our less fortunate friends and contribute to the Roadrunner Food Bank. We kindly ask each club member to: \n\nBring non-perishable food items\, or\nContribute a monetary donation\n\nTogether\, we’ll spread joy and help those in need while enjoying a fantastic pasta feast! \nLocation: Albuquerque westside. RSVP to roadrunnernaturists@hotmail.com for address and directions.
URL:https://www.roadrunnernaturists.com/event/holiday-pasta-party
LOCATION:Albuquerque Westside\, Albuquerque\, NM\, United States
CATEGORIES:Social
ATTACH;FMTTYPE=image/webp:https://www.roadrunnernaturists.com/wp-content/uploads/2025/11/holiday-party-2025.webp
ORGANIZER;CN="Roadrunner Naturists":MAILTO:info@roadrunnernaturists.com
END:VEVENT
END:VCALENDAR