BEGIN:VCALENDAR
VERSION:2.0
PRODID:-//Roadrunner Naturists Club - ECPv6.15.20//NONSGML v1.0//EN
CALSCALE:GREGORIAN
METHOD:PUBLISH
X-ORIGINAL-URL:https://www.roadrunnernaturists.com
X-WR-CALDESC:Events for Roadrunner Naturists Club
REFRESH-INTERVAL;VALUE=DURATION:PT1H
X-Robots-Tag:noindex
X-PUBLISHED-TTL:PT1H
BEGIN:VTIMEZONE
TZID:America/Denver
BEGIN:DAYLIGHT
TZOFFSETFROM:-0700
TZOFFSETTO:-0600
TZNAME:MDT
DTSTART:20240310T090000
END:DAYLIGHT
BEGIN:STANDARD
TZOFFSETFROM:-0600
TZOFFSETTO:-0700
TZNAME:MST
DTSTART:20241103T080000
END:STANDARD
BEGIN:DAYLIGHT
TZOFFSETFROM:-0700
TZOFFSETTO:-0600
TZNAME:MDT
DTSTART:20250309T090000
END:DAYLIGHT
BEGIN:STANDARD
TZOFFSETFROM:-0600
TZOFFSETTO:-0700
TZNAME:MST
DTSTART:20251102T080000
END:STANDARD
BEGIN:DAYLIGHT
TZOFFSETFROM:-0700
TZOFFSETTO:-0600
TZNAME:MDT
DTSTART:20260308T090000
END:DAYLIGHT
BEGIN:STANDARD
TZOFFSETFROM:-0600
TZOFFSETTO:-0700
TZNAME:MST
DTSTART:20261101T080000
END:STANDARD
END:VTIMEZONE
BEGIN:VEVENT
DTSTART;TZID=America/Denver:20251101T140000
DTEND;TZID=America/Denver:20251101T180000
DTSTAMP:20260423T014729
CREATED:20250827T231309Z
LAST-MODIFIED:20250827T231309Z
UID:27746-1762005600-1762020000@www.roadrunnernaturists.com
SUMMARY:Halloween Party Potluck
DESCRIPTION:Get Ready for the Annual Halloween Potluck Extravaganza!\nCalling all costume enthusiasts and Halloween lovers! Join us for our beloved annual Halloween Party Potluck in the East Mountains. Our gracious host will provide the main dish\, while Roadrunner members are invited to bring delightful sides or desserts to share. \nThis is your chance to unleash your creativity and show off the most imaginative\, spooky\, or hilarious costume you can dream up! It’s a night of delicious food\, fantastic company\, and Halloween spirit. Don’t miss out on this fun-filled club celebration! \n\nRSVP to roadrunnernaturists@hotmail.com for directions.\nNon-members who have previously attended a Meet and Greet can join in for a $10 contribution.
URL:https://www.roadrunnernaturists.com/event/halloween-party-potluck
LOCATION:East Mountains
CATEGORIES:Social
ATTACH;FMTTYPE=image/webp:https://www.roadrunnernaturists.com/wp-content/uploads/2025/08/halloween-party-2025.webp
ORGANIZER;CN="Roadrunner Naturists":MAILTO:info@roadrunnernaturists.com
END:VEVENT
END:VCALENDAR